BEGIN:VCALENDAR
VERSION:2.0
PRODID:-//Center for Resilience to Climate Change - ECPv6.15.20//NONSGML v1.0//EN
CALSCALE:GREGORIAN
METHOD:PUBLISH
X-WR-CALNAME:Center for Resilience to Climate Change
X-ORIGINAL-URL:https://crcc.uprrp.edu
X-WR-CALDESC:Events for Center for Resilience to Climate Change
REFRESH-INTERVAL;VALUE=DURATION:PT1H
X-Robots-Tag:noindex
X-PUBLISHED-TTL:PT1H
BEGIN:VTIMEZONE
TZID:UTC
BEGIN:STANDARD
TZOFFSETFROM:+0000
TZOFFSETTO:+0000
TZNAME:UTC
DTSTART:20250101T000000
END:STANDARD
END:VTIMEZONE
BEGIN:VEVENT
DTSTART;TZID=UTC:20260306T100000
DTEND;TZID=UTC:20260306T110000
DTSTAMP:20260423T211407
CREATED:20260216T031059Z
LAST-MODIFIED:20260216T031218Z
UID:639-1772791200-1772794800@crcc.uprrp.edu
SUMMARY:Climate Change-Chemistry Related STEM Seminar / STEM Role Model Seminar
DESCRIPTION:Dr. Liz Díaz\nAnalytical Chemistry
URL:https://crcc.uprrp.edu/event/climate-change-chemistry-related-stem-seminar-stem-role-model-seminar/
LOCATION:FB-341
CATEGORIES:STEM Role Model/Research Seminars
END:VEVENT
BEGIN:VEVENT
DTSTART;TZID=UTC:20260227T120000
DTEND;TZID=UTC:20260227T130000
DTSTAMP:20260423T211407
CREATED:20260216T030902Z
LAST-MODIFIED:20260216T030902Z
UID:637-1772193600-1772197200@crcc.uprrp.edu
SUMMARY:Tercer Congreso de Educación Ambiental\, Cambio Climático y Desarrollo Sostenible
DESCRIPTION:Presentation Nature Quest
URL:https://crcc.uprrp.edu/event/tercer-congreso-de-educacion-ambiental-cambio-climatico-y-desarrollo-sostenible/
END:VEVENT
BEGIN:VEVENT
DTSTART;TZID=UTC:20260227T100000
DTEND;TZID=UTC:20260227T110000
DTSTAMP:20260423T211407
CREATED:20260216T030749Z
LAST-MODIFIED:20260216T030749Z
UID:634-1772186400-1772190000@crcc.uprrp.edu
SUMMARY:Seminar: Climatic Change\, Terrestrial Ecosystems\, and the Puerto Rican Herpetofauna: Lessons Learned for an Uncertain Future
DESCRIPTION:Dr. Neftalí Reyes\nDepartment of Environmental Sciences\nUPR-RP
URL:https://crcc.uprrp.edu/event/seminar-climatic-change-terrestrial-ecosystems-and-the-puerto-rican-herpetofauna-lessons-learned-for-an-uncertain-future/
LOCATION:FB-341
CATEGORIES:STEM Research and Career Path Seminar
END:VEVENT
BEGIN:VEVENT
DTSTART;TZID=UTC:20260220T100000
DTEND;TZID=UTC:20260220T120000
DTSTAMP:20260423T211407
CREATED:20260216T030504Z
LAST-MODIFIED:20260216T030504Z
UID:632-1771581600-1771588800@crcc.uprrp.edu
SUMMARY:Career Development Workshop: Inteligencia Artificial aplicada a la Acción Climática
DESCRIPTION:Dr. Ricardo Morales\nProfessor\, Faculty of General CEA
URL:https://crcc.uprrp.edu/event/career-development-workshop-inteligencia-artificial-aplicada-a-la-accion-climatica/
LOCATION:FB-341
CATEGORIES:Career Development Seminar/Workshops
END:VEVENT
BEGIN:VEVENT
DTSTART;TZID=UTC:20260210T110000
DTEND;TZID=UTC:20260210T120000
DTSTAMP:20260423T211407
CREATED:20260216T025810Z
LAST-MODIFIED:20260216T025810Z
UID:628-1770721200-1770724800@crcc.uprrp.edu
SUMMARY:Global Women and Breakfast 2026: Many Voices One Science
DESCRIPTION:ACS \n 
URL:https://crcc.uprrp.edu/event/global-women-and-breakfast-2026-many-voices-one-science/
LOCATION:ZOOM & CRiiAS\, UPRRP
END:VEVENT
BEGIN:VEVENT
DTSTART;TZID=UTC:20260206T100000
DTEND;TZID=UTC:20260206T110000
DTSTAMP:20260423T211407
CREATED:20260216T025425Z
LAST-MODIFIED:20260216T030036Z
UID:626-1770372000-1770375600@crcc.uprrp.edu
SUMMARY:Climate Change-Chemistry Related STEM Seminar
DESCRIPTION:Dr. Jorge Colón\nInorganic Chemistry
URL:https://crcc.uprrp.edu/event/climate-change-chemistry-related-stem-seminar/
CATEGORIES:Climate Change-Chemistry Related STEM Seminar
END:VEVENT
BEGIN:VEVENT
DTSTART;TZID=UTC:20260130T100000
DTEND;TZID=UTC:20260130T110000
DTSTAMP:20260423T211407
CREATED:20260216T021527Z
LAST-MODIFIED:20260216T030104Z
UID:616-1769767200-1769770800@crcc.uprrp.edu
SUMMARY:Seminar: From Caves to Karst to Communities:  Consequences of Climate Change
DESCRIPTION:Dr. Angel Acosta \nDepartment of Physical Chemistry \nUPR-Arecibo
URL:https://crcc.uprrp.edu/event/seminar-from-caves-to-karst-to-communities-consequences-of-climate-change/
LOCATION:FB-341
CATEGORIES:STEM Research and Career Path Seminar
END:VEVENT
END:VCALENDAR