BEGIN:VCALENDAR
VERSION:2.0
PRODID:-//Center for Resilience to Climate Change - ECPv6.15.20//NONSGML v1.0//EN
CALSCALE:GREGORIAN
METHOD:PUBLISH
X-WR-CALNAME:Center for Resilience to Climate Change
X-ORIGINAL-URL:https://crcc.uprrp.edu
X-WR-CALDESC:Events for Center for Resilience to Climate Change
REFRESH-INTERVAL;VALUE=DURATION:PT1H
X-Robots-Tag:noindex
X-PUBLISHED-TTL:PT1H
BEGIN:VTIMEZONE
TZID:UTC
BEGIN:STANDARD
TZOFFSETFROM:+0000
TZOFFSETTO:+0000
TZNAME:UTC
DTSTART:20250101T000000
END:STANDARD
END:VTIMEZONE
BEGIN:VEVENT
DTSTART;TZID=UTC:20260320T100000
DTEND;TZID=UTC:20260320T110000
DTSTAMP:20260424T002357
CREATED:20260216T031951Z
LAST-MODIFIED:20260216T031951Z
UID:648-1774000800-1774004400@crcc.uprrp.edu
SUMMARY:Mental Health and Wellness Seminar/Workshop: Stress Management
DESCRIPTION:DECODE
URL:https://crcc.uprrp.edu/event/mental-health-and-wellness-seminar-workshop-stress-management/
LOCATION:FB-341
CATEGORIES:Mental Health and Wellness
END:VEVENT
END:VCALENDAR