BEGIN:VCALENDAR
VERSION:2.0
PRODID:-//Center for Resilience to Climate Change - ECPv6.15.20//NONSGML v1.0//EN
CALSCALE:GREGORIAN
METHOD:PUBLISH
X-ORIGINAL-URL:https://crcc.uprrp.edu
X-WR-CALDESC:Events for Center for Resilience to Climate Change
REFRESH-INTERVAL;VALUE=DURATION:PT1H
X-Robots-Tag:noindex
X-PUBLISHED-TTL:PT1H
BEGIN:VTIMEZONE
TZID:UTC
BEGIN:STANDARD
TZOFFSETFROM:+0000
TZOFFSETTO:+0000
TZNAME:UTC
DTSTART:20250101T000000
END:STANDARD
END:VTIMEZONE
BEGIN:VEVENT
DTSTART;TZID=UTC:20260317T163000
DTEND;TZID=UTC:20260317T193000
DTSTAMP:20260423T192330
CREATED:20260216T031644Z
LAST-MODIFIED:20260216T031644Z
UID:644-1773765000-1773775800@crcc.uprrp.edu
SUMMARY:Career Development Workshop: Grants & Fellowships Applications Workshop
DESCRIPTION:Dr. Mike Westrate\nAssistant Vice-Provost for Graduate\nResearch and Education\nVillanova University
URL:https://crcc.uprrp.edu/event/career-development-workshop-grants-fellowships-applications-workshop/
LOCATION:FB-341
CATEGORIES:Career Development Seminar/Workshops
END:VEVENT
BEGIN:VEVENT
DTSTART;TZID=UTC:20260318T163000
DTEND;TZID=UTC:20260318T193000
DTSTAMP:20260423T192330
CREATED:20260216T031801Z
LAST-MODIFIED:20260216T031801Z
UID:646-1773851400-1773862200@crcc.uprrp.edu
SUMMARY:Career Development Workshop: Grants & Fellowships Applications Workshop
DESCRIPTION:Dr. Mike Westrate\nAssistant Vice-Provost for Graduate\nResearch and Education\nVillanova University
URL:https://crcc.uprrp.edu/event/career-development-workshop-grants-fellowships-applications-workshop-2/
LOCATION:FB-341
CATEGORIES:Career Development Seminar/Workshops
END:VEVENT
END:VCALENDAR