BEGIN:VCALENDAR
VERSION:2.0
PRODID:-//Center for Resilience to Climate Change - ECPv6.15.20//NONSGML v1.0//EN
CALSCALE:GREGORIAN
METHOD:PUBLISH
X-WR-CALNAME:Center for Resilience to Climate Change
X-ORIGINAL-URL:https://crcc.uprrp.edu
X-WR-CALDESC:Events for Center for Resilience to Climate Change
REFRESH-INTERVAL;VALUE=DURATION:PT1H
X-Robots-Tag:noindex
X-PUBLISHED-TTL:PT1H
BEGIN:VTIMEZONE
TZID:UTC
BEGIN:STANDARD
TZOFFSETFROM:+0000
TZOFFSETTO:+0000
TZNAME:UTC
DTSTART:20250101T000000
END:STANDARD
END:VTIMEZONE
BEGIN:VEVENT
DTSTART;TZID=UTC:20260424T100000
DTEND;TZID=UTC:20260424T110000
DTSTAMP:20260423T110452
CREATED:20260216T032619Z
LAST-MODIFIED:20260216T032619Z
UID:663-1777024800-1777028400@crcc.uprrp.edu
SUMMARY:Career Development/Research Workshop
DESCRIPTION:Dr. Edgar Resto\nValidación Científica
URL:https://crcc.uprrp.edu/event/career-development-research-workshop/
LOCATION:FB-341
CATEGORIES:Career Development Seminar/Workshops
END:VEVENT
BEGIN:VEVENT
DTSTART;TZID=UTC:20260427T000000
DTEND;TZID=UTC:20260501T235959
DTSTAMP:20260423T110452
CREATED:20260216T032743Z
LAST-MODIFIED:20260216T032743Z
UID:666-1777248000-1777679999@crcc.uprrp.edu
SUMMARY:School Visits: UPR-CRCC students
DESCRIPTION:
URL:https://crcc.uprrp.edu/event/school-visits-upr-crcc-students/
CATEGORIES:Outreach Activities
END:VEVENT
BEGIN:VEVENT
DTSTART;TZID=UTC:20260504T000000
DTEND;TZID=UTC:20260504T235959
DTSTAMP:20260423T110452
CREATED:20260216T033001Z
LAST-MODIFIED:20260216T033001Z
UID:668-1777852800-1777939199@crcc.uprrp.edu
SUMMARY:Climate Change Awareness: Emergency Response
DESCRIPTION:Round Table (Propuesta: Nino Correa)
URL:https://crcc.uprrp.edu/event/climate-change-awareness-emergency-response/
LOCATION:FB-341
CATEGORIES:Climate Change Awareness: Round Tables
END:VEVENT
BEGIN:VEVENT
DTSTART;TZID=UTC:20260508T100000
DTEND;TZID=UTC:20260508T110000
DTSTAMP:20260423T110452
CREATED:20260216T033100Z
LAST-MODIFIED:20260216T033100Z
UID:670-1778234400-1778238000@crcc.uprrp.edu
SUMMARY:Climate Change-Chemistry Related Seminar / STEM Role Model Seminar
DESCRIPTION:Suheily López Belén\nMeteorologist
URL:https://crcc.uprrp.edu/event/climate-change-chemistry-related-seminar-stem-role-model-seminar/
LOCATION:FB-341
CATEGORIES:STEM Role Model/Research Seminars
END:VEVENT
BEGIN:VEVENT
DTSTART;TZID=UTC:20260608T000000
DTEND;TZID=UTC:20260612T235959
DTSTAMP:20260423T110452
CREATED:20260216T033243Z
LAST-MODIFIED:20260216T033311Z
UID:673-1780876800-1781308799@crcc.uprrp.edu
SUMMARY:Dynamic Capacitation Summer Week
DESCRIPTION:
URL:https://crcc.uprrp.edu/event/dynamic-capacitation-summer-week/
LOCATION:UPR-CRCC Facilities
END:VEVENT
END:VCALENDAR