BEGIN:VCALENDAR
VERSION:2.0
PRODID:-//Center for Resilience to Climate Change - ECPv6.15.20//NONSGML v1.0//EN
CALSCALE:GREGORIAN
METHOD:PUBLISH
X-WR-CALNAME:Center for Resilience to Climate Change
X-ORIGINAL-URL:https://crcc.uprrp.edu
X-WR-CALDESC:Events for Center for Resilience to Climate Change
REFRESH-INTERVAL;VALUE=DURATION:PT1H
X-Robots-Tag:noindex
X-PUBLISHED-TTL:PT1H
BEGIN:VTIMEZONE
TZID:UTC
BEGIN:STANDARD
TZOFFSETFROM:+0000
TZOFFSETTO:+0000
TZNAME:UTC
DTSTART:20250101T000000
END:STANDARD
END:VTIMEZONE
BEGIN:VEVENT
DTSTART;TZID=UTC:20260417T100000
DTEND;TZID=UTC:20260417T110000
DTSTAMP:20260423T160937
CREATED:20260216T032451Z
LAST-MODIFIED:20260216T032451Z
UID:659-1776420000-1776423600@crcc.uprrp.edu
SUMMARY:Simposio de la Mujer en la Ciencia
DESCRIPTION:
URL:https://crcc.uprrp.edu/event/simposio-de-la-mujer-en-la-ciencia/
LOCATION:FB-341
END:VEVENT
END:VCALENDAR